BEGIN:VCALENDAR
VERSION:2.0
PRODID:-//wp-events-plugin.com//6.4.5.1//EN
TZID:Europe/Brussels
X-WR-TIMEZONE:Europe/Brussels
BEGIN:VEVENT
UID:1045@sportardent.be
DTSTART;TZID=Europe/Brussels:20260727T190000
DTEND;TZID=Europe/Brussels:20260727T210000
DTSTAMP:20250619T120648Z
URL:https://sportardent.be/events/badminton-9-2026-07-27/
SUMMARY:Badminton
DESCRIPTION:Rejoins la section Badminton chaque lundi et vendredi de 19h à
  21h. Plus d'infos sur notre page Badminton.
CATEGORIES:Section sportive
LOCATION:Hall Omnisports de la Constitution\, Boulevard de la Constitution 
 82\, Liège\, Liège\, 4020\, Liège\, Belgique
GEO:50.644953;5.591826
X-APPLE-STRUCTURED-LOCATION;VALUE=URI;X-ADDRESS=Boulevard de la Constitutio
 n 82\, Liège\, Liège\, 4020\, Liège\, Belgique;X-APPLE-RADIUS=100;X-TIT
 LE=Hall Omnisports de la Constitution:geo:50.644953,5.591826
END:VEVENT
BEGIN:VTIMEZONE
TZID:Europe/Brussels
X-LIC-LOCATION:Europe/Brussels
BEGIN:DAYLIGHT
DTSTART:20260329T030000
TZOFFSETFROM:+0100
TZOFFSETTO:+0200
TZNAME:CEST
END:DAYLIGHT
END:VTIMEZONE
END:VCALENDAR