BEGIN:VCALENDAR
VERSION:2.0
PRODID:-//wp-events-plugin.com//6.4.5.1//EN
TZID:Europe/Brussels
X-WR-TIMEZONE:Europe/Brussels
BEGIN:VEVENT
UID:927@sportardent.be
DTSTART;TZID=Europe/Brussels:20260511T190000
DTEND;TZID=Europe/Brussels:20260511T200000
DTSTAMP:20250619T120546Z
URL:https://sportardent.be/events/jogging-4-2026-05-11/
SUMMARY:Jogging
DESCRIPTION:Viens courir avec la section Jogging chaque lundi de 19h à 20h
 . Plus d'infos sur notre page Jogging.
CATEGORIES:Section sportive
END:VEVENT
BEGIN:VTIMEZONE
TZID:Europe/Brussels
X-LIC-LOCATION:Europe/Brussels
BEGIN:DAYLIGHT
DTSTART:20260329T030000
TZOFFSETFROM:+0100
TZOFFSETTO:+0200
TZNAME:CEST
END:DAYLIGHT
END:VTIMEZONE
END:VCALENDAR