BEGIN:VCALENDAR
VERSION:2.0
PRODID:-//wp-events-plugin.com//6.4.5.1//EN
TZID:Europe/Brussels
X-WR-TIMEZONE:Europe/Brussels
BEGIN:VEVENT
UID:1078@sportardent.be
DTSTART;TZID=Europe/Brussels:20260509T100000
DTEND;TZID=Europe/Brussels:20260509T180000
DTSTAMP:20260412T101759Z
URL:https://sportardent.be/events/lille-unicorns-games/
SUMMARY:Lille Unicorns Games
DESCRIPTION:Ce samedi\, les membres de notre section Badminton participent 
 au tournoi organisé par les Licornes des Flandres\, à Lille.
CATEGORIES:Autre évènement
LOCATION:Complexe Jacqueline Auriol\, Rue d’Iéna 62\, Lille\, 59000\, Fr
 ance
GEO:50.622313;3.047528
X-APPLE-STRUCTURED-LOCATION;VALUE=URI;X-ADDRESS=Rue d’Iéna 62\, Lille\, 
 59000\, France;X-APPLE-RADIUS=100;X-TITLE=Complexe Jacqueline Auriol:geo:5
 0.622313,3.047528
END:VEVENT
BEGIN:VTIMEZONE
TZID:Europe/Brussels
X-LIC-LOCATION:Europe/Brussels
BEGIN:DAYLIGHT
DTSTART:20260329T030000
TZOFFSETFROM:+0100
TZOFFSETTO:+0200
TZNAME:CEST
END:DAYLIGHT
END:VTIMEZONE
END:VCALENDAR