BEGIN:VCALENDAR
VERSION:2.0
PRODID:-//wp-events-plugin.com//6.4.5.1//EN
TZID:Europe/Brussels
X-WR-TIMEZONE:Europe/Brussels
BEGIN:VEVENT
UID:1073@sportardent.be
DTSTART;TZID=Europe/Brussels:20260607T140000
DTEND;TZID=Europe/Brussels:20260607T170000
DTSTAMP:20251220T081832Z
URL:https://sportardent.be/events/marche-sportive-260607/
SUMMARY:Marche Sportive
DESCRIPTION:Rejoins notre section Marche ce dimanche 7 juin à 14h. Plus d'
 infos prochainement.\n\nInscription gratuite et obligatoire pour nos membr
 es. Pas encore membre ? La première séance est gratuite : envoie-nous un
  e-mail à marche@sportardent.be.
CATEGORIES:Section sportive
END:VEVENT
BEGIN:VTIMEZONE
TZID:Europe/Brussels
X-LIC-LOCATION:Europe/Brussels
BEGIN:DAYLIGHT
DTSTART:20260329T030000
TZOFFSETFROM:+0100
TZOFFSETTO:+0200
TZNAME:CEST
END:DAYLIGHT
END:VTIMEZONE
END:VCALENDAR