BEGIN:VCALENDAR
VERSION:2.0
PRODID:-//wp-events-plugin.com//6.4.5.1//EN
TZID:Europe/Brussels
X-WR-TIMEZONE:Europe/Brussels
BEGIN:VEVENT
UID:889@sportardent.be
DTSTART;TZID=Europe/Brussels:20260625T203000
DTEND;TZID=Europe/Brussels:20260625T213000
DTSTAMP:20250619T120515Z
URL:https://sportardent.be/events/natation-6-2026-06-25/
SUMMARY:Natation
DESCRIPTION:Viens nager avec nous chaque jeudi de 20h30 à 21h30.\n\nPlus d
 'infos sur notre page Natation.
CATEGORIES:Section sportive
LOCATION:Piscine de Jonfosse\, Rue Lambert le Bègue 36/38\, Liège\, Lièg
 e\, 4000\, Liège\, Belgique
GEO:50.640365;5.563719
X-APPLE-STRUCTURED-LOCATION;VALUE=URI;X-ADDRESS=Rue Lambert le Bègue 36/38
 \, Liège\, Liège\, 4000\, Liège\, Belgique;X-APPLE-RADIUS=100;X-TITLE=P
 iscine de Jonfosse:geo:50.640365,5.563719
END:VEVENT
BEGIN:VTIMEZONE
TZID:Europe/Brussels
X-LIC-LOCATION:Europe/Brussels
BEGIN:DAYLIGHT
DTSTART:20260329T030000
TZOFFSETFROM:+0100
TZOFFSETTO:+0200
TZNAME:CEST
END:DAYLIGHT
END:VTIMEZONE
END:VCALENDAR