BEGIN:VCALENDAR
VERSION:2.0
PRODID:-//wp-events-plugin.com//6.4.5.1//EN
TZID:Europe/Brussels
X-WR-TIMEZONE:Europe/Brussels
BEGIN:VEVENT
UID:1076@sportardent.be
DTSTART;TZID=Europe/Brussels:20270306T093000
DTEND;TZID=Europe/Brussels:20270306T183000
DTSTAMP:20260407T182050Z
URL:https://sportardent.be/events/tournoi-de-badminton-de-sport-ardent-202
 7/
SUMMARY:Tournoi de Badminton de Sport Ardent
DESCRIPTION:Le tournoi de Badminton de Sport Ardent revient en 2027 ! Plus 
 d'informations prochainement.
CATEGORIES:Évènement Sport Ardent
LOCATION:Espace Sport de Fléron\, Avenue de l'Espace Sport 4\, Fléron\, 4
 620\, Belgique
GEO:50.612611;5.677908
X-APPLE-STRUCTURED-LOCATION;VALUE=URI;X-ADDRESS=Avenue de l'Espace Sport 4\
 , Fléron\, 4620\, Belgique;X-APPLE-RADIUS=100;X-TITLE=Espace Sport de Fl
 éron:geo:50.612611,5.677908
END:VEVENT
BEGIN:VTIMEZONE
TZID:Europe/Brussels
X-LIC-LOCATION:Europe/Brussels
BEGIN:STANDARD
DTSTART:20261025T020000
TZOFFSETFROM:+0200
TZOFFSETTO:+0100
TZNAME:CET
END:STANDARD
END:VTIMEZONE
END:VCALENDAR